BEGIN:VCALENDAR
VERSION:2.0
PRODID:-//Mioara Iacob - ECPv6.2.9//NONSGML v1.0//EN
CALSCALE:GREGORIAN
METHOD:PUBLISH
X-WR-CALNAME:Mioara Iacob
X-ORIGINAL-URL:https://mioaraiacob.ro
X-WR-CALDESC:Events for Mioara Iacob
REFRESH-INTERVAL;VALUE=DURATION:PT1H
X-Robots-Tag:noindex
X-PUBLISHED-TTL:PT1H
BEGIN:VTIMEZONE
TZID:Europe/Helsinki
BEGIN:DAYLIGHT
TZOFFSETFROM:+0200
TZOFFSETTO:+0300
TZNAME:EEST
DTSTART:20230326T010000
END:DAYLIGHT
BEGIN:STANDARD
TZOFFSETFROM:+0300
TZOFFSETTO:+0200
TZNAME:EET
DTSTART:20231029T010000
END:STANDARD
END:VTIMEZONE
BEGIN:VEVENT
DTSTART;VALUE=DATE:20230818
DTEND;VALUE=DATE:20230821
DTSTAMP:20260420T154817
CREATED:20230804T064725Z
LAST-MODIFIED:20231117T195017Z
UID:1809-1692316800-1692575999@mioaraiacob.ro
SUMMARY:Tabără: DETOX - Minte\, Trup și Suflet
DESCRIPTION:
URL:https://mioaraiacob.ro/eveniment/tabara-detox-minte-trup-si-suflet/
LOCATION:Zoom Online\, România
CATEGORIES:Workshop
ATTACH;FMTTYPE=image/jpeg:https://mioaraiacob.ro/wp-content/uploads/2023/08/365149555_6418987048182814_4099596960985746968_n.jpg
ORGANIZER;CN="Mioara Iacob":MAILTO:psihora22@gmail.com
END:VEVENT
END:VCALENDAR